BEGIN:VCALENDAR
VERSION:2.0
PRODID:icalendar-ruby
CALSCALE:GREGORIAN
METHOD:PUBLISH
BEGIN:VEVENT
DTSTAMP:20260423T031640Z
UID:11-1589599@havreassembly.org
DTSTART:20261103T140000Z
DTEND:20261103T150000Z
CLASS:PUBLIC
CREATED:20260422T200851
DESCRIPTION:
LAST-MODIFIED:20260422T200851
LOCATION:Havre Assembly Church
SUMMARY:Men's Prayer Breakfast
URL;VALUE=URI:https://www.havreassembly.org/events/mens-prayer-breakfast/20
 26-11-03
END:VEVENT
END:VCALENDAR
