BEGIN:VCALENDAR
VERSION:2.0
PRODID:icalendar-ruby
CALSCALE:GREGORIAN
METHOD:PUBLISH
BEGIN:VEVENT
DTSTAMP:20260423T012738Z
UID:11-1588285@havreassembly.org
DTSTART:20261027T130000Z
DTEND:20261027T140000Z
CLASS:PUBLIC
CREATED:20260422T171549
DESCRIPTION:
LAST-MODIFIED:20260422T171549
LOCATION:Havre Assembly Church
SUMMARY:Men's Prayer Breakfast
URL;VALUE=URI:https://www.havreassembly.org/events/mens-prayer-breakfast/20
 26-10-27
END:VEVENT
END:VCALENDAR
