BEGIN:VCALENDAR
VERSION:2.0
PRODID:icalendar-ruby
CALSCALE:GREGORIAN
METHOD:PUBLISH
BEGIN:VEVENT
DTSTAMP:20260422T234350Z
UID:11-1588284@havreassembly.org
DTSTART:20261020T130000Z
DTEND:20261020T140000Z
CLASS:PUBLIC
CREATED:20260422T171549
DESCRIPTION:
LAST-MODIFIED:20260422T171549
LOCATION:Havre Assembly Church
SUMMARY:Men's Prayer Breakfast
URL;VALUE=URI:https://www.havreassembly.org/events/mens-prayer-breakfast/20
 26-10-20
END:VEVENT
END:VCALENDAR
