BEGIN:VCALENDAR
VERSION:2.0
PRODID:icalendar-ruby
CALSCALE:GREGORIAN
METHOD:PUBLISH
BEGIN:VEVENT
DTSTAMP:20260422T204639Z
UID:11-1586971@havreassembly.org
DTSTART:20261006T130000Z
DTEND:20261006T140000Z
CLASS:PUBLIC
CREATED:20260422T142307
DESCRIPTION:
LAST-MODIFIED:20260422T142307
LOCATION:Havre Assembly Church
SUMMARY:Men's Prayer Breakfast
URL;VALUE=URI:https://www.havreassembly.org/events/mens-prayer-breakfast/20
 26-10-06
END:VEVENT
END:VCALENDAR
