BEGIN:VCALENDAR
VERSION:2.0
PRODID:icalendar-ruby
CALSCALE:GREGORIAN
METHOD:PUBLISH
BEGIN:VEVENT
DTSTAMP:20260422T191225Z
UID:11-1585659@havreassembly.org
DTSTART:20260929T130000Z
DTEND:20260929T140000Z
CLASS:PUBLIC
CREATED:20260422T112811
DESCRIPTION:
LAST-MODIFIED:20260422T112811
LOCATION:Havre Assembly Church
SUMMARY:Men's Prayer Breakfast
URL;VALUE=URI:https://www.havreassembly.org/events/mens-prayer-breakfast/20
 26-09-29
END:VEVENT
END:VCALENDAR
