BEGIN:VCALENDAR
VERSION:2.0
PRODID:icalendar-ruby
CALSCALE:GREGORIAN
METHOD:PUBLISH
BEGIN:VEVENT
DTSTAMP:20260422T173746Z
UID:11-1585658@havreassembly.org
DTSTART:20260922T130000Z
DTEND:20260922T140000Z
CLASS:PUBLIC
CREATED:20260422T112811
DESCRIPTION:
LAST-MODIFIED:20260422T112811
LOCATION:Havre Assembly Church
SUMMARY:Men's Prayer Breakfast
URL;VALUE=URI:https://www.havreassembly.org/events/mens-prayer-breakfast/20
 26-09-22
END:VEVENT
END:VCALENDAR
