BEGIN:VCALENDAR
VERSION:2.0
PRODID:icalendar-ruby
CALSCALE:GREGORIAN
METHOD:PUBLISH
BEGIN:VEVENT
DTSTAMP:20260425T203635Z
UID:11-1610521@havreassembly.org
DTSTART:20241119T140000Z
DTEND:20241119T150000Z
CLASS:PUBLIC
CREATED:20260425T133323
DESCRIPTION:
LAST-MODIFIED:20260425T133323
LOCATION:Havre Assembly Church
SUMMARY:Men's Prayer Breakfast
URL;VALUE=URI:https://www.havreassembly.org/events/mens-prayer-breakfast/20
 24-11-19
END:VEVENT
END:VCALENDAR
