BEGIN:VCALENDAR
VERSION:2.0
PRODID:icalendar-ruby
CALSCALE:GREGORIAN
METHOD:PUBLISH
BEGIN:VEVENT
DTSTAMP:20260426T002034Z
UID:12-1612087@havreassembly.org
DTSTART:20261102T170000Z
DTEND:20261102T190000Z
CLASS:PUBLIC
CREATED:20260425T161546
DESCRIPTION:
LAST-MODIFIED:20260425T161546
LOCATION:Havre Assembly Church
SUMMARY:Men's Community Group
URL;VALUE=URI:https://www.havreassembly.org/events/mens-community-group/202
 6-11-02
END:VEVENT
END:VCALENDAR
