BEGIN:VCALENDAR
VERSION:2.0
PRODID:icalendar-ruby
CALSCALE:GREGORIAN
METHOD:PUBLISH
BEGIN:VEVENT
DTSTAMP:20260425T202220Z
UID:12-1610770@havreassembly.org
DTSTART:20261012T160000Z
DTEND:20261012T180000Z
CLASS:PUBLIC
CREATED:20260425T133323
DESCRIPTION:
LAST-MODIFIED:20260425T133323
LOCATION:Havre Assembly Church
SUMMARY:Men's Community Group
URL;VALUE=URI:https://www.havreassembly.org/events/mens-community-group/202
 6-10-12
END:VEVENT
END:VCALENDAR
