BEGIN:VCALENDAR
VERSION:2.0
PRODID:icalendar-ruby
CALSCALE:GREGORIAN
METHOD:PUBLISH
BEGIN:VEVENT
DTSTAMP:20260425T190134Z
UID:12-1609455@havreassembly.org
DTSTART:20261005T160000Z
DTEND:20261005T180000Z
CLASS:PUBLIC
CREATED:20260425T105232
DESCRIPTION:
LAST-MODIFIED:20260425T105232
LOCATION:Havre Assembly Church
SUMMARY:Men's Community Group
URL;VALUE=URI:https://www.havreassembly.org/events/mens-community-group/202
 6-10-05
END:VEVENT
END:VCALENDAR
