BEGIN:VCALENDAR
VERSION:2.0
PRODID:icalendar-ruby
CALSCALE:GREGORIAN
METHOD:PUBLISH
BEGIN:VEVENT
DTSTAMP:20260425T174338Z
UID:12-1609454@havreassembly.org
DTSTART:20260928T160000Z
DTEND:20260928T180000Z
CLASS:PUBLIC
CREATED:20260425T105232
DESCRIPTION:
LAST-MODIFIED:20260425T105232
LOCATION:Havre Assembly Church
SUMMARY:Men's Community Group
URL;VALUE=URI:https://www.havreassembly.org/events/mens-community-group/202
 6-09-28
END:VEVENT
END:VCALENDAR
