BEGIN:VCALENDAR
VERSION:2.0
PRODID:icalendar-ruby
CALSCALE:GREGORIAN
METHOD:PUBLISH
BEGIN:VEVENT
DTSTAMP:20260425T162201Z
UID:12-1608139@havreassembly.org
DTSTART:20260921T160000Z
DTEND:20260921T180000Z
CLASS:PUBLIC
CREATED:20260425T081217
DESCRIPTION:
LAST-MODIFIED:20260425T081217
LOCATION:Havre Assembly Church
SUMMARY:Men's Community Group
URL;VALUE=URI:https://www.havreassembly.org/events/mens-community-group/202
 6-09-21
END:VEVENT
END:VCALENDAR
