BEGIN:VCALENDAR
VERSION:2.0
PRODID:icalendar-ruby
CALSCALE:GREGORIAN
METHOD:PUBLISH
BEGIN:VEVENT
DTSTAMP:20260422T173836Z
UID:6-1585363@havreassembly.org
DTSTART:20261022T003000Z
DTEND:20261022T020000Z
CLASS:PUBLIC
CREATED:20260422T112810
DESCRIPTION:Students grade 7-12
LAST-MODIFIED:20260422T112810
LOCATION:Havre Assembly Youth Barn
SUMMARY:Havre Assembly Youth
URL;VALUE=URI:https://www.havreassembly.org/events/havre-assembly-youth/202
 6-10-21
END:VEVENT
END:VCALENDAR
