BEGIN:VCALENDAR
VERSION:2.0
PRODID:icalendar-ruby
CALSCALE:GREGORIAN
METHOD:PUBLISH
BEGIN:VEVENT
DTSTAMP:20260422T161610Z
UID:6-1584051@havreassembly.org
DTSTART:20261015T003000Z
DTEND:20261015T020000Z
CLASS:PUBLIC
CREATED:20260422T083245
DESCRIPTION:Students grade 7-12
LAST-MODIFIED:20260422T083245
LOCATION:Havre Assembly Youth Barn
SUMMARY:Havre Assembly Youth
URL;VALUE=URI:https://www.havreassembly.org/events/havre-assembly-youth/202
 6-10-14
END:VEVENT
END:VCALENDAR
