BEGIN:VCALENDAR
VERSION:2.0
PRODID:icalendar-ruby
CALSCALE:GREGORIAN
METHOD:PUBLISH
BEGIN:VEVENT
DTSTAMP:20260422T131934Z
UID:6-1582738@havreassembly.org
DTSTART:20261001T003000Z
DTEND:20261001T020000Z
CLASS:PUBLIC
CREATED:20260422T053754
DESCRIPTION:Students grade 7-12
LAST-MODIFIED:20260422T053754
LOCATION:Havre Assembly Youth Barn
SUMMARY:Havre Assembly Youth
URL;VALUE=URI:https://www.havreassembly.org/events/havre-assembly-youth/202
 6-09-30
END:VEVENT
END:VCALENDAR
