BEGIN:VCALENDAR
VERSION:2.0
PRODID:icalendar-ruby
CALSCALE:GREGORIAN
METHOD:PUBLISH
BEGIN:VEVENT
DTSTAMP:20260422T102029Z
UID:6-1581425@havreassembly.org
DTSTART:20260917T003000Z
DTEND:20260917T020000Z
CLASS:PUBLIC
CREATED:20260421T183525
DESCRIPTION:Students grade 7-12
LAST-MODIFIED:20260421T183525
LOCATION:Havre Assembly Youth Barn
SUMMARY:Havre Assembly Youth
URL;VALUE=URI:https://www.havreassembly.org/events/havre-assembly-youth/202
 6-09-16
END:VEVENT
END:VCALENDAR
